BEGIN:VCALENDAR
VERSION:2.0
PRODID:-//Breast Cancer Resource Center of Texas - ECPv6.15.20//NONSGML v1.0//EN
CALSCALE:GREGORIAN
METHOD:PUBLISH
X-WR-CALNAME:Breast Cancer Resource Center of Texas
X-ORIGINAL-URL:https://bcrc.org
X-WR-CALDESC:Events for Breast Cancer Resource Center of Texas
REFRESH-INTERVAL;VALUE=DURATION:PT1H
X-Robots-Tag:noindex
X-PUBLISHED-TTL:PT1H
BEGIN:VTIMEZONE
TZID:America/Chicago
BEGIN:DAYLIGHT
TZOFFSETFROM:-0600
TZOFFSETTO:-0500
TZNAME:CDT
DTSTART:20240310T080000
END:DAYLIGHT
BEGIN:STANDARD
TZOFFSETFROM:-0500
TZOFFSETTO:-0600
TZNAME:CST
DTSTART:20241103T070000
END:STANDARD
BEGIN:DAYLIGHT
TZOFFSETFROM:-0600
TZOFFSETTO:-0500
TZNAME:CDT
DTSTART:20250309T080000
END:DAYLIGHT
BEGIN:STANDARD
TZOFFSETFROM:-0500
TZOFFSETTO:-0600
TZNAME:CST
DTSTART:20251102T070000
END:STANDARD
BEGIN:DAYLIGHT
TZOFFSETFROM:-0600
TZOFFSETTO:-0500
TZNAME:CDT
DTSTART:20260308T080000
END:DAYLIGHT
BEGIN:STANDARD
TZOFFSETFROM:-0500
TZOFFSETTO:-0600
TZNAME:CST
DTSTART:20261101T070000
END:STANDARD
END:VTIMEZONE
BEGIN:VEVENT
DTSTART;TZID=America/Chicago:20251026T110000
DTEND;TZID=America/Chicago:20251026T130000
DTSTAMP:20260425T212942
CREATED:20251003T152631Z
LAST-MODIFIED:20251003T190928Z
UID:10000087-1761476400-1761483600@bcrc.org
SUMMARY:LoveShackFancy x Breast Cancer Research Center
DESCRIPTION:Profit Share Shopping Event at LoveShackFancy Austin!
URL:https://bcrc.org/event/loveshackfancy-x-breast-cancer-research-center/
LOCATION:LoveShackFancy Austin\, 1011 S Congress Ave BLDG 1 Suite 160\, Austin\, TX\, 78704\, United States
ATTACH;FMTTYPE=image/jpeg:https://bcrc.org/wp-content/uploads/2025/10/IMG_8733.jpeg
ORGANIZER;CN="LoveShackFancy Austin":MAILTO:austin@loveshackfancy.com
END:VEVENT
END:VCALENDAR